BEGIN:VCALENDAR
VERSION:2.0
PRODID:-//Relationships Australia SA - ECPv4.6.8//NONSGML v1.0//EN
CALSCALE:GREGORIAN
METHOD:PUBLISH
X-WR-CALNAME:Relationships Australia SA
X-ORIGINAL-URL:http://www.rasa.org.au
X-WR-CALDESC:Events for Relationships Australia SA
BEGIN:VEVENT
DTSTART;TZID=Australia/Adelaide:20170426T080000
DTEND;TZID=Australia/Adelaide:20180426T170000
DTSTAMP:20180226T070431
CREATED:20170426T065351Z
LAST-MODIFIED:20170427T092712Z
UID:10649-1493193600-1524762000@www.rasa.org.au
SUMMARY:Counsellor Available in Waikerie
DESCRIPTION:A Relationships Australia SA counsellor is available in Waikerie every Wednesday. \nYou can receive counselling and support in relation to family separation\, relationship worries\, family conflict\, parenting and mediation. If your finances or relationships are affected by gambling\, support is available for individuals\, family members and friends. \nThis is a free and confidential service. \n
URL:http://www.rasa.org.au/event/counsellor-available-waikerie/
CATEGORIES:Parenting,Health and wellbeing,Relationships Australia (SA),Community,Children and young people,Riverland,Couples and families,Post separation,Gambling/finance
ATTACH;FMTTYPE=image/jpeg:http://www.rasa.org.au/wp-content/uploads/2015/07/LogoYP.jpg
END:VEVENT
BEGIN:VEVENT
DTSTART;TZID=Australia/Adelaide:20170518T080000
DTEND;TZID=Australia/Adelaide:20180518T170000
DTSTAMP:20180226T070431
CREATED:20170518T032047Z
LAST-MODIFIED:20170518T032047Z
UID:10741-1495094400-1526662800@www.rasa.org.au
SUMMARY:Infant Massage: Free Training in Your Home
DESCRIPTION:Massage for babies has been shown to reduce crying times\, improve sleep and reduce levels of stress hormones in babies. \nA new baby in the home is a time of excitement and joy\, but it is also a time where families are going through big changes that come with feelings of stress and concern. \nOur practitioners are able to come to the home and run through the 6 session massage course jointly with the parents/caregivers at a time convenient to them\, and will cover themes of attachment with baby\, parenting styles\, family strengths and relationships. \nThis is a great opportunity to practice creating a special time with your baby and build your connection with them. Babies need to be under 10 months at the commencement of the program. \n
URL:http://www.rasa.org.au/event/infant-massage-free-training-home/
CATEGORIES:Parenting,Relationships Australia (SA),Training,Children and young people
ATTACH;FMTTYPE=image/jpeg:http://www.rasa.org.au/wp-content/uploads/2015/07/LogoYP.jpg
END:VEVENT
BEGIN:VEVENT
DTSTART;TZID=Australia/Adelaide:20170925T080000
DTEND;TZID=Australia/Adelaide:20180925T170000
DTSTAMP:20180226T070431
CREATED:20170925T045025Z
LAST-MODIFIED:20170925T045025Z
UID:11311-1506326400-1537894800@www.rasa.org.au
SUMMARY:Stolen Generations Recording
DESCRIPTION:Have you ever wanted to record or preserve your story?\nAs part of Relationships Australia SA’s commitment to healing and wellbeing we are offering to film or make an audio recording of your story for you to keep. \nThis video or audio recording is for members of the Stolen Generations to share their memories with family and friends. \nWe can schedule a time suitable to you and help you with any other requirements you may need such as transport. \nThe location\, date and time of the filming can be negotiated with an Elm Place caseworker. Feel free to bring photos or items that are significant to you. \n
URL:http://www.rasa.org.au/event/stolen-generations-recording/
LOCATION:191 Flinders Street\, Adelaide\, SA\, 5000\, Australia
GEO:-34.9269906;138.6079047
X-APPLE-STRUCTURED-LOCATION;VALUE=URI;X-ADDRESS=191 Flinders Street Adelaide SA 5000 Australia;X-APPLE-RADIUS=500;X-TITLE=191 Flinders Street:geo:138.6079047,-34.9269906
CATEGORIES:Aboriginal and Torres Strait Islanders Peoples,Relationships Australia (SA),Adelaide (CBD and Eastern Suburbs)
ATTACH;FMTTYPE=image/jpeg:http://www.rasa.org.au/wp-content/uploads/2015/09/ElmPlaceWeb-e1443500242768.jpg
END:VEVENT
BEGIN:VEVENT
DTSTART;TZID=Australia/Adelaide:20180205T103000
DTEND;TZID=Australia/Adelaide:20180312T120000
DTSTAMP:20180226T070431
CREATED:20171217T230946Z
LAST-MODIFIED:20171218T005107Z
UID:11734-1517826600-1520856000@www.rasa.org.au
SUMMARY:Baby in mind infant massage - Largs Bay
DESCRIPTION:Massage for babies has been shown to reduce crying times\, improve sleep and reduce levels of stress hormones in babies. \nAre you interested in strengthening bonding and attachment with your child through massage? With a small group for mum\, dad\, grandmother\, our massage instructors will demonstrate techniques that suit you and your little one. A great opportunity to practice creating a special time with your baby and build your connection with them. Babies can be up to 12 months of age at the commencement of the program to attend. \n
URL:http://www.rasa.org.au/event/baby-mind-infant-massage-largs-bay/
LOCATION:208 Lady Gowrie Drive\, Largs Bay\, SA\, 5016\, Australia
GEO:-34.8243748;138.4876293
X-APPLE-STRUCTURED-LOCATION;VALUE=URI;X-ADDRESS=208 Lady Gowrie Drive Largs Bay SA 5016 Australia;X-APPLE-RADIUS=500;X-TITLE=208 Lady Gowrie Drive:geo:138.4876293,-34.8243748
ATTACH;FMTTYPE=image/png:http://www.rasa.org.au/wp-content/uploads/2017/12/babyInMind.png
END:VEVENT
BEGIN:VEVENT
DTSTART;TZID=Australia/Adelaide:20180207T100000
DTEND;TZID=Australia/Adelaide:20180314T123000
DTSTAMP:20180226T070431
CREATED:20180110T022724Z
LAST-MODIFIED:20180110T022724Z
UID:11846-1517997600-1521030600@www.rasa.org.au
SUMMARY:Managing challenging behaviour
DESCRIPTION:Responding therapeutically to difficult behaviour\nDo you sometimes feel like parenting is just all hard work?\nDo you feel like you have tried everything to change your child’s behaviour?\nDo you wish you and your child could have more fun together?\nHas your family experienced relationship breakdown\, grief\, violence or other trauma? \nWhen a family goes through a difficult time the ‘fun’ in family can be lost\, and parenting can seem to be a constant challenge.\nThis program will help you to better understand your child’s challenging behaviours and learn to respond effectively in a way that helps both you and your child.\nJoin us as we explore therapeutic parenting together! \n
URL:http://www.rasa.org.au/event/managing-challenging-behaviour/
LOCATION:13 Elizabeth Way\, Elizabeth\, SA\, 5112\, Australia
GEO:-34.7212638;138.6668308
X-APPLE-STRUCTURED-LOCATION;VALUE=URI;X-ADDRESS=13 Elizabeth Way Elizabeth SA 5112 Australia;X-APPLE-RADIUS=500;X-TITLE=13 Elizabeth Way:geo:138.6668308,-34.7212638
CATEGORIES:Parenting,Relationships Australia (SA),Adelaide (Northern Suburbs)
ATTACH;FMTTYPE=image/jpeg:http://www.rasa.org.au/wp-content/uploads/2015/07/LogoYP.jpg
END:VEVENT
BEGIN:VEVENT
DTSTART;TZID=Australia/Adelaide:20180213T100000
DTEND;TZID=Australia/Adelaide:20180403T120000
DTSTAMP:20180226T070431
CREATED:20171127T023643Z
LAST-MODIFIED:20171127T024328Z
UID:11515-1518516000-1522756800@www.rasa.org.au
SUMMARY:Circle of Security
DESCRIPTION:A relationship based parenting program\nWe are all “hard wired” to seek security. This need for secure relationships is ‘built-in’ to our most important interactions throughout every hour of every day. This 8 session course is ideal for mothers\, fathers\, significant others\, parents to be\, grandparents\, foster and adoptive parents or anyone that is providing care for children. \nThis course will cover: \n\nWhat your child’s behaviour might mean\nHow to help your child organise their feelings\nHow to help your child feel secure in their relationships\nHow to help your child engage more in play and learning\nHow to support you in your role as a parent when times are tough\nHow to support your child in managing difficult behaviours: tantrums\, attention seeking\, clinginess.\n\n
URL:http://www.rasa.org.au/event/circle-of-security/
LOCATION:49a Orsmond Street\, Hindmarsh\, SA\, Australia
GEO:-34.9052988;138.570083
X-APPLE-STRUCTURED-LOCATION;VALUE=URI;X-ADDRESS=49a Orsmond Street Hindmarsh SA Australia;X-APPLE-RADIUS=500;X-TITLE=49a Orsmond Street:geo:138.570083,-34.9052988
CATEGORIES:Parenting,Relationships Australia (SA),Adelaide (Western Suburbs)
ATTACH;FMTTYPE=image/jpeg:http://www.rasa.org.au/wp-content/uploads/2015/07/LogoYP.jpg
END:VEVENT
BEGIN:VEVENT
DTSTART;TZID=Australia/Adelaide:20180213T114500
DTEND;TZID=Australia/Adelaide:20180213T130000
DTSTAMP:20180226T070431
CREATED:20180212T055859Z
LAST-MODIFIED:20180212T055859Z
UID:11979-1518522300-1518526800@www.rasa.org.au
SUMMARY:Walk of Awareness - Port Adelaide
DESCRIPTION:Commemorating our Stolen Generations: Apology 10 year Anniversary. \nThe Walk of Awareness will be held in Port Adelaide at 11:45am. \nCommunity to gather on the Northern side of Birkenhead Bridge departing at 12 noon all together. \nWe will walk across to the southern side to Hart’s Mill where a Kaurna Welcome to Country\, story telling and a free community BBQ will take place. \nWe hope to see you there! \n
URL:http://www.rasa.org.au/event/walk-of-awareness-port-adelaide/
CATEGORIES:Aboriginal and Torres Strait Islanders Peoples,Relationships Australia (SA),Adelaide (Western Suburbs)
ATTACH;FMTTYPE=image/jpeg:http://www.rasa.org.au/wp-content/uploads/2015/07/LogoYP.jpg
END:VEVENT
BEGIN:VEVENT
DTSTART;TZID=Australia/Adelaide:20180214T130000
DTEND;TZID=Australia/Adelaide:20180307T150000
DTSTAMP:20180226T070431
CREATED:20180207T034858Z
LAST-MODIFIED:20180207T034858Z
UID:11960-1518613200-1520434800@www.rasa.org.au
SUMMARY:Being with Big Feelings - Riverland
DESCRIPTION:‘Being With Big Feelings’ is focused on supporting parents to better understand the emotional world of their children. This program is being run in partnership with Relationships Australia SA and the Renmark Children’s Centre. \n
URL:http://www.rasa.org.au/event/big-feelings-riverland/
LOCATION:204 Eighteenth Street\, Renmark\, SA\, 5341\, Australia
GEO:-34.1730942;140.7430946
X-APPLE-STRUCTURED-LOCATION;VALUE=URI;X-ADDRESS=204 Eighteenth Street Renmark SA 5341 Australia;X-APPLE-RADIUS=500;X-TITLE=204 Eighteenth Street:geo:140.7430946,-34.1730942
CATEGORIES:Parenting,Relationships Australia (SA),Riverland
ATTACH;FMTTYPE=image/jpeg:http://www.rasa.org.au/wp-content/uploads/2015/07/LogoYP.jpg
END:VEVENT
BEGIN:VEVENT
DTSTART;TZID=Australia/Adelaide:20180216T090000
DTEND;TZID=Australia/Adelaide:20180330T103000
DTSTAMP:20180226T070431
CREATED:20180109T084907Z
LAST-MODIFIED:20180131T033402Z
UID:11773-1518771600-1522405800@www.rasa.org.au
SUMMARY:First Touch - Infant Massage - Salisbury
DESCRIPTION:Infant Massage is coming FREE to your neighbourhood!During the 5-session First Touch Program\, parents learn how to and adapt different types of gentle touch and gain confidence in using voice\, movement and other forms of communication to help soothe\, settle and comfort their baby. \nThe small group size provides a great opportunity to practice creating a special time with your baby and build your connection with them. Babies need to be under 10 months at the commencement of the program to attend. \nThe group starts on Friday\, 16 February 2018 for 5 weeks \nPlease call Chris on 8255 3323 to register your interest\nThere is no cost for this service. \nDownload Flyer \n\n
URL:http://www.rasa.org.au/event/first-touch-infant-massage/
LOCATION:10 Compuda St\, Salisbury\, SA\, 5108\, Australia
GEO:-34.7671728;138.6472308
X-APPLE-STRUCTURED-LOCATION;VALUE=URI;X-ADDRESS=10 Compuda St Salisbury SA 5108 Australia;X-APPLE-RADIUS=500;X-TITLE=10 Compuda St:geo:138.6472308,-34.7671728
CATEGORIES:Parenting,Relationships Australia (SA),Adelaide (Northern Suburbs)
ATTACH;FMTTYPE=image/png:http://www.rasa.org.au/wp-content/uploads/2017/12/babyInMind.png
END:VEVENT
BEGIN:VEVENT
DTSTART;TZID=Australia/Adelaide:20180220T100000
DTEND;TZID=Australia/Adelaide:20180320T113000
DTSTAMP:20180226T070431
CREATED:20180125T020035Z
LAST-MODIFIED:20180125T020240Z
UID:11894-1519120800-1521545400@www.rasa.org.au
SUMMARY:Parenting Together
DESCRIPTION:\nAre you a parent of a young child or have recently had a baby?\nAre you co-parenting a child with another person (partner\, extended family\, kinship carers etc)?\nDo you and your partner have very different ideas on the‘right’ way to raise a child?\nDo you feel you could communicate better with your partner?\n\nRelationships Australia South Australia will be running the Parenting Together program.\nThis five week Communities for Children initiative is most effective for co-parents with a child 0-5 years\, who are having trouble communicating effectively with each other and who can both attend the group. \nThe group aims to:\nIncrease participants knowledge of child development. Help parents with effectiveparenting practices. Offer ideas on how to develop healthy family relationships. \n
URL:http://www.rasa.org.au/event/parenting-together/
LOCATION:2 Belalie Road\, Ingle Farm\, SA\, 5098\, Australia
GEO:-34.827537;138.6422169
X-APPLE-STRUCTURED-LOCATION;VALUE=URI;X-ADDRESS=2 Belalie Road Ingle Farm SA 5098 Australia;X-APPLE-RADIUS=500;X-TITLE=2 Belalie Road:geo:138.6422169,-34.827537
CATEGORIES:Parenting,Adelaide (Northern Suburbs),Relationships Australia (SA),Couples and families
ATTACH;FMTTYPE=image/jpeg:http://www.rasa.org.au/wp-content/uploads/2015/07/LogoYP.jpg
END:VEVENT
BEGIN:VEVENT
DTSTART;TZID=Australia/Adelaide:20180220T154500
DTEND;TZID=Australia/Adelaide:20180626T170000
DTSTAMP:20180226T070431
CREATED:20180116T040812Z
LAST-MODIFIED:20180131T061308Z
UID:11873-1519141500-1530032400@www.rasa.org.au
SUMMARY:Circus Gig
DESCRIPTION:Roll up and learn some deadly new circus tricks!\nCircus GIG is a FREE fun weekly activity for kids (8-12) and their families who live in the Playford area. \nCirkidz tutors (www.cirkidz.org.au) are fully qualified\, accredited and training. \nWhen\n\nTuesdays\, 20 February 2018- 26 June 2018 (School holidays exempt)\n\nTime\n3:45pm – 5pm \nWhere\nThe Platform\, Elizabeth Way\, Elizabeth \n
URL:http://www.rasa.org.au/event/circus-gig/
LOCATION:73 Elizabeth Way\, Elizabeth\, SA\, 5112\, Australia
GEO:-34.7148729;138.6693074
X-APPLE-STRUCTURED-LOCATION;VALUE=URI;X-ADDRESS=73 Elizabeth Way Elizabeth SA 5112 Australia;X-APPLE-RADIUS=500;X-TITLE=73 Elizabeth Way:geo:138.6693074,-34.7148729
CATEGORIES:Schools,Relationships Australia (SA),Adelaide (Northern Suburbs),Children and young people
ATTACH;FMTTYPE=image/png:http://www.rasa.org.au/wp-content/uploads/2018/01/CircusGig_event-e1516075884102.png
END:VEVENT
BEGIN:VEVENT
DTSTART;TZID=Australia/Adelaide:20180221T183000
DTEND;TZID=Australia/Adelaide:20180516T203000
DTSTAMP:20180226T070431
CREATED:20171127T021809Z
LAST-MODIFIED:20171127T022455Z
UID:11509-1519237800-1526502600@www.rasa.org.au
SUMMARY:Back on Track: a men's group for positive change
DESCRIPTION:\nAre you hurting or scaring someone you care about?\nIs violence causing problems in your relationship?\nWould you like different ways to deal with your anger?\n\nIf you are thinking about making changes to become a better partner or father you don’t have to go it alone\, join us for a 12 week program. \n
URL:http://www.rasa.org.au/event/back-track-mens-group-positive-change-2/
LOCATION:13 Elizabeth Way\, Elizabeth\, SA\, 5112\, Australia
GEO:-34.7212638;138.6668308
X-APPLE-STRUCTURED-LOCATION;VALUE=URI;X-ADDRESS=13 Elizabeth Way Elizabeth SA 5112 Australia;X-APPLE-RADIUS=500;X-TITLE=13 Elizabeth Way:geo:138.6668308,-34.7212638
CATEGORIES:Adelaide (Northern Suburbs),Relationships Australia (SA),Couples and families
ATTACH;FMTTYPE=image/jpeg:http://www.rasa.org.au/wp-content/uploads/2015/07/LogoYP.jpg
END:VEVENT
BEGIN:VEVENT
DTSTART;TZID=Australia/Adelaide:20180227T100000
DTEND;TZID=Australia/Adelaide:20180410T123000
DTSTAMP:20180226T070431
CREATED:20180110T002110Z
LAST-MODIFIED:20180110T002110Z
UID:11836-1519725600-1523363400@www.rasa.org.au
SUMMARY:Women managing anger in their world and relationships
DESCRIPTION:Getting angry is normal and healthy\, but acting with anger can damage relationships. This group program is to help women explore and understand their emotions including anger\, in a supportive and caring environment.You will be given the opportunity to explore and understand the impact of anger on self\, your relationships and your loved ones\, including children. The origins of anger and how to manage your anger in healthy and appropriate ways will be explored. We will take a look at society’s messages and influences on women’s beliefs and develop communication skills to support women in the process of change. \n
URL:http://www.rasa.org.au/event/women-managing-anger-world-relationships/
LOCATION:Hoyts Salisbury Cinema Complex\, Cnr James/Gawler St\, Salisbury\, SA\, 5108\, Australia
GEO:-34.761606;138.643518
X-APPLE-STRUCTURED-LOCATION;VALUE=URI;X-ADDRESS=Hoyts Salisbury Cinema Complex Cnr James/Gawler St Salisbury SA 5108 Australia;X-APPLE-RADIUS=500;X-TITLE=Hoyts Salisbury Cinema Complex\, Cnr James/Gawler St:geo:138.643518,-34.761606
CATEGORIES:Parenting,Adelaide (Northern Suburbs),Health and wellbeing,Relationships Australia (SA)
ATTACH;FMTTYPE=image/jpeg:http://www.rasa.org.au/wp-content/uploads/2015/07/LogoYP.jpg
END:VEVENT
BEGIN:VEVENT
DTSTART;TZID=Australia/Adelaide:20180301T093000
DTEND;TZID=Australia/Adelaide:20180301T163000
DTSTAMP:20180226T070431
CREATED:20180205T054308Z
LAST-MODIFIED:20180205T054308Z
UID:11939-1519896600-1519921800@www.rasa.org.au
SUMMARY:Adoption\, Identity & Connection
DESCRIPTION:Post Adoption Support Services is running a 1 day workshop for adopted people. This will be an opportunity to talk and reflect on how adoption has shaped your life\, its influence in forming identity\, and how central your adoption experience is to your life. \nThis will also create the space for people to come together and share the similarities and differences of their adoption stories\, and to gain support and knowledge from each other. \n
URL:http://www.rasa.org.au/event/adoption-identity-connection/
LOCATION:49a Orsmond Street\, Hindmarsh\, SA\, Australia
GEO:-34.9052988;138.570083
X-APPLE-STRUCTURED-LOCATION;VALUE=URI;X-ADDRESS=49a Orsmond Street Hindmarsh SA Australia;X-APPLE-RADIUS=500;X-TITLE=49a Orsmond Street:geo:138.570083,-34.9052988
CATEGORIES:Relationships Australia (SA),Adelaide (Western Suburbs),Adoption
ATTACH;FMTTYPE=image/png:http://www.rasa.org.au/wp-content/uploads/2018/02/AIC_thumbnail.png
END:VEVENT
END:VCALENDAR